BEGIN:VCALENDAR
VERSION:2.0
PRODID:-//https://www.treknology3.com///NONSGML kigkonsult.se iCalcreator 2.10.15//
METHOD:PUBLISH
BEGIN:VEVENT
UID:20260423T131825CDT-4854X4vE70@https://www.treknology3.com/
DTSTAMP:20260423T181825Z
DESCRIPTION:Join our Treknology3 Cycling Club ride\, 25 Jan 2020\, as we ri
 de the Mandai Loop.\nThis ride is catered for beginner &amp\; intermediate
  riders. The rolling speed during the ride will be 25-30 km/h.Depending on
  groupe size\, we will split into 2 groups:Group 1: 28-32 km/hGroup 2: 25-
 28 km/h\nDistance: approximately: 60 kmRide duration: 3 hours\nROUTE MAP:
 \n*Please indicate 'Going' or 'Interested' so that we may estimate the gro
 up size for logistics and contact purposes*\nMeeting venue and timing are 
 as follows:\n1. STADIUM MRT exit B: (Singapore Sports Hub). Meet 0600hrs\,
  roll off at 0605hrs\n2. Cuscaden Rd Treknology3 Shop.&nbsp\;Meet 0630hrs\
 , roll off at 0635hrs\n*Ride update at 0515hrs in case of bad weather*\nRi
 ders may peel off along the route - please inform the ride captain beforeh
 and.Post ride coffee and chat @ DA PAOLO MBShttps://goo.gl/maps/Tvsycv9PMn
 LPVk3FA\nRegroup points (if necessary):1. SHELL MANDAI:&nbsp\;https://goo.
 gl/maps/fVesUdFLwjX4A1RJ7\n2. 7-11 JK Village:&nbsp\;https://goo.gl/maps/A
 kUGaWjByQk1zune8\nNotes:\n\nAll bicycle brands are welcomed to join\nRide 
 briefing before start\nRecommended for beginner-intermediate road riders\n
 Riders should have good basic fitness\nRiders should be comfortable riding
  closely in a group of cyclist\nThere will be water break stops and regrou
 p points\, if necessary\nOnly road bikes are highly encouraged on this rid
 e\n\n*Please indicate 'Going' or 'Interested' so that we may estimate the 
 group size for logistics and contact purposes*\nRules:\n\nNo helmet\, No r
 ide\nNo lights\, No ride\nPlease have adequate hydration available\nLISTEN
  to the ride captain\nSTOP at all red lights\nPlease bring cash or card fo
 r post ride breakfast/coffee\nRide Safe and look out for one another!\nEnj
 oy the journey and company\n\n* Riders participating in the events agrees 
 that the Event Owner shall not be held liable for any loss\, damage\, pers
 onal injury or death in connection with the Event. *\n* By participating i
 n the Treknology3 Cycling Club (TCC) event\, you consent to interview(s)\,
  photography\, audio recording\, video recording and its/their release\, p
 ublication\, exhibition\, or reproduction to be used for news\, web casts\
 , promotional purposes\, telecasts\, advertising\, inclusion on web sites\
 , or for any other purpose(s) that TCC\, its vendors\, partners\, affiliat
 es and/or representatives deems fit to use. You release TCC\, each and all
  persons involved from any liability connected with the taking\, recording
 \, digitising\, or publication of interviews\, photographs\, computer imag
 es\, video and/or or sound recordings.\nBy participating in the event\, yo
 u waive all rights you may have to any claims for payment or royalties in 
 connection with any exhibition\, streaming\, webcasting\, televising\, or 
 other publication of these materials\, regardless of the purpose or sponso
 ring of such exhibiting\, broadcasting\, webcasting\, or other publication
  irrespective of whether a fee for admission or sponsorship is charged. Yo
 u also waive any right to inspect or approve any photo\, video\, or audio 
 recording taken by TCC or the person or entity designated to do so by TCC.
 *\n*You have been fully informed of your consent\, waiver of liability\, a
 nd release before participating in this TCC event.* https://www.treknology
 3.com/component/rseventspro/event/72-treknology3-cycling-club-mandai-loop-
 25-jan-2020?Itemid=2467
DTSTART:20200124T220000Z
DTEND:20200125T010000Z
LOCATION:Stadium MRT Station (3 Stadium Walk\, Singapore 397692)
SUMMARY:Treknology3 Cycling Club @ Mandai Loop - 25 Jan 2020
URL:https://www.treknology3.com/component/rseventspro/event/72-treknology3-
 cycling-club-mandai-loop-25-jan-2020?Itemid=2467
END:VEVENT
END:VCALENDAR
