BEGIN:VCALENDAR
VERSION:2.0
PRODID:-//https://www.treknology3.com///NONSGML kigkonsult.se iCalcreator 2.10.15//
METHOD:PUBLISH
BEGIN:VEVENT
UID:20260423T111824CDT-7345ufTjX6@https://www.treknology3.com/
DTSTAMP:20260423T161824Z
DESCRIPTION:Join our Treknology3 Cycling Club ride\, 25 Jan 2020\, as we ri
 de the Mandai Loop.\nThis ride is catered for beginner &amp\; intermediate
  riders. The rolling speed during the ride will be 25-30 km/h.Depending on
  groupe size\, we will split into 2 groups:Group 1: 28-32 km/hGroup 2: 25-
 28 km/h\nDistance: approximately: 60 kmRide duration: 3 hours\nROUTE MAP:
 \n*Please indicate 'Going' or 'Interested' so that we may estimate the gro
 up size for logistics and contact purposes*\nMeeting venue and timing are 
 as follows:\n1. STADIUM MRT exit B: (Singapore Sports Hub). Meet 0600hrs\,
  roll off at 0605hrs\n2. Cuscaden Rd Treknology3 Shop.&nbsp\;Meet 0630hrs\
 , roll off at 0635hrs\n*Ride update at 0515hrs in case of bad weather*\nRi
 ders may peel off along the route - please inform the ride captain beforeh
 and.Post ride coffee and chat @ DA PAOLO MBShttps://goo.gl/maps/Tvsycv9PMn
 LPVk3FA\nRegroup points (if necessary):1. SHELL MANDAI:&nbsp\;https://goo.
 gl/maps/fVesUdFLwjX4A1RJ7\n2. 7-11 JK Village:&nbsp\;https://goo.gl/maps/A
 kUGaWjByQk1zune8\nNotes:\n\nAll bicycle brands are welcomed to join\nRide 
 briefing before start\nRecommended for beginner-intermediate road riders\n
 Riders should have good basic fitness\nRiders should be comfortable riding
  closely in a group of cyclist\nThere will be water break stops and regrou
 p points\, if necessary\nOnly road bikes are highly encouraged on this rid
 e\n\n*Please indicate 'Going' or 'Interested' so that we may estimate the 
 group size for logistics and contact purposes*\nRules:\n\nNo helmet\, No r
 ide\nNo lights\, No ride\nPlease have adequate hydration available\nLISTEN
  to the ride captain\nSTOP at all red lights\nPlease bring cash or card fo
 r post ride breakfast/coffee\nRide Safe and look out for one another!\nEnj
 oy the journey and company\n\n* Riders participating in the events agrees 
 that the Event Owner shall not be held liable for any loss\, damage\, pers
 onal injury or death in connection with the Event. *\n* By participating i
 n the Treknology3 Cycling Club (TCC) event\, you consent to interview(s)\,
  photography\, audio recording\, video recording and its/their release\, p
 ublication\, exhibition\, or reproduction to be used for news\, web casts\
 , promotional purposes\, telecasts\, advertising\, inclusion on web sites\
 , or for any other purpose(s) that TCC\, its vendors\, partners\, affiliat
 es and/or representatives deems fit to use. You release TCC\, each and all
  persons involved from any liability connected with the taking\, recording
 \, digitising\, or publication of interviews\, photographs\, computer imag
 es\, video and/or or sound recordings.\nBy participating in the event\, yo
 u waive all rights you may have to any claims for payment or royalties in 
 connection with any exhibition\, streaming\, webcasting\, televising\, or 
 other publication of these materials\, regardless of the purpose or sponso
 ring of such exhibiting\, broadcasting\, webcasting\, or other publication
  irrespective of whether a fee for admission or sponsorship is charged. Yo
 u also waive any right to inspect or approve any photo\, video\, or audio 
 recording taken by TCC or the person or entity designated to do so by TCC.
 *\n*You have been fully informed of your consent\, waiver of liability\, a
 nd release before participating in this TCC event.* https://www.treknology
 3.com/component/rseventspro/event/72-treknology3-cycling-club-mandai-loop-
 25-jan-2020?Itemid=2467
DTSTART:20200124T220000Z
DTEND:20200125T010000Z
LOCATION:Stadium MRT Station (3 Stadium Walk\, Singapore 397692)
SUMMARY:Treknology3 Cycling Club @ Mandai Loop - 25 Jan 2020
URL:https://www.treknology3.com/component/rseventspro/event/72-treknology3-
 cycling-club-mandai-loop-25-jan-2020?Itemid=2467
END:VEVENT
BEGIN:VEVENT
UID:20260423T111824CDT-73482CVV14@https://www.treknology3.com/
DTSTAMP:20260423T161824Z
DESCRIPTION:Join our Women's Cycling Project February 2020 ride\, 15 Februa
 ry 2020\, as we ride to Upper Pierce Reservoir.\nFor the month of February
 !Date: 15 Feb 2010Meeting Time: 6:30 AMMeeting Location: Treknology3 Cusca
 den ShowroomRolling Time: 6:35 AM Sharp\nAll 3 groups will go to Upper Pie
 rce Reservoir and practice for 45 minutes\, before returning to Jewel for 
 coffee for 0830\; to and back from the reservoir is 21km.\nGroup 1 will pl
 ay some chasing games\; group 2 have 45 minutes to complete as many laps a
 s you desire\; group 3 will have access to tips on climbing\, descending a
 nd getting out of the saddle.\nWe may end up riding back as 2 groups\, for
  the commute\, so that the group size is sensible (not too large for road 
 riding!)\; in the event on bad weather\, we will post on the Facebook page
  at 0530.\n - please note this distance does not include laps of Upper Pie
 rce! https://www.treknology3.com/component/rseventspro/event/73-women-s-cy
 cling-project-ride-upper-pierce-reservior-15-feb-2020?Itemid=2467
DTSTART:20200214T222500Z
DTEND:20200215T003000Z
LOCATION:Treknology3 Cuscaden Showroom  (11 Cuscaden Rd\, Singapore 249727)
SUMMARY:Women's Cycling Project Ride @ Upper Pierce Reservior - 15 Feb 2020
URL:https://www.treknology3.com/component/rseventspro/event/73-women-s-cycl
 ing-project-ride-upper-pierce-reservior-15-feb-2020?Itemid=2467
END:VEVENT
BEGIN:VEVENT
UID:20260423T111824CDT-7349EHcWrI@https://www.treknology3.com/
DTSTAMP:20260423T161824Z
DESCRIPTION:Join our International Womens Day weekend\, 7 March 2020.\nIn c
 onjunction with International Womens Day weekend\, we will be hosting a ri
 de for all ladies.We would also encourage you to bring a plus one - husban
 d\, boyfriend\, partner\, brother\, best friend\, etc\nWe hope this is a g
 reat opportunity for us to celebrate the important woman in our lives - if
  your partner is not a cyclist\, they may also head over to the post ride 
 coffee to join us in our chit chats.\nThe route is scenic and at an easy p
 ace - possibility of multiple groups depending on riders numbers. We will 
 be rolling to the popular southern hills of Singapore as well!\nPlease RSV
 P so we know how many riders to expect.\nFaster riders are welcomed to do 
 multiple repeats of the hills as you wish.\nThis ride will replace Women's
  Cycling Project March edition\, please take note.\nDate: 7 March 2020\, S
 aturdayMeeting Time: 6:30amMeeting Location: Treknology3 Cuscaden Showroom
 \, 11 Cuscaden RoadRoute: Holland &gt\; NUS &gt\; Vigilante Rd &gt\; Pepys
  &gt\; Mt Faber &gt\; Lower Delta Road &gt\; River Valley Road &gt\; Orcha
 rd &gt\; Jewel Coffee Claymore Connect Distance: 40 KM\nNotes:\n\nFor expe
 rienced riders with reasonable fitness\nOnly road bikes are allowed\nPost 
 Ride coffee at Jewel Coffee\n\nRules:\n\nNo helmet\, No ride\nNo lights\, 
 No ride\nPlease bring hydration and some cash for post ride coffee\nNo sur
 ging during the controlled ride.\nWe STOP at all red lights.\nWe LISTEN to
  the ride captain\nHAVE LOADS OF FUN!\n\n*Please indicate 'Going' or 'Inte
 rested' so that we may estimate the group size for logistics and contact p
 urposes*\n* Riders participating in the events agrees that the Event Owner
  shall not be held liable for any loss\, damage\, personal injury or death
  in connection with the Event. *\n* By participating in the Treknology3 ev
 ent\, you consent to interview(s)\, photography\, audio recording\, video 
 recording and its/their release\, publication\, exhibition\, or reproducti
 on to be used for news\, web casts\, promotional purposes\, telecasts\, ad
 vertising\, inclusion on web sites\, or for any other purpose(s) that Trek
 nology3\, its vendors\, partners\, affiliates and/or representatives deems
  fit to use. You release Treknology3\, each and all persons involved from 
 any liability connected with the taking\, recording\, digitising\, or publ
 ication of interviews\, photographs\, computer images\, video and/or or so
 und recordings.\nBy participating in the event\, you waive all rights you 
 may have to any claims for payment or royalties in connection with any exh
 ibition\, streaming\, webcasting\, televising\, or other publication of th
 ese materials\, regardless of the purpose or sponsoring of such exhibiting
 \, broadcasting\, webcasting\, or other publication irrespective of whethe
 r a fee for admission or sponsorship is charged. You also waive any right 
 to inspect or approve any photo\, video\, or audio recording taken by Trek
 nology3 or the person or entity designated to do so by Treknology3.**You h
 ave been fully informed of your consent\, waiver of liability\, and releas
 e before participating in the Treknology3 event.* https://www.treknology3.
 com/component/rseventspro/event/75-women-s-cycling-project-march-ride-inte
 rnational-womens-day-7-march-2020?Itemid=2467
DTSTART:20200306T223000Z
DTEND:20200307T013000Z
LOCATION:Treknology3 Cuscaden Showroom  (11 Cuscaden Rd\, Singapore 249727)
SUMMARY:Women's Cycling Project March Ride - International Womens Day - 7 M
 arch 2020
URL:https://www.treknology3.com/component/rseventspro/event/75-women-s-cycl
 ing-project-march-ride-international-womens-day-7-march-2020?Itemid=2467
END:VEVENT
END:VCALENDAR
